BEGIN:VCALENDAR
VERSION:2.0
PRODID:-//Escuela de Trabajo Social PUCV - ECPv6.4.0.1//NONSGML v1.0//EN
CALSCALE:GREGORIAN
METHOD:PUBLISH
X-ORIGINAL-URL:https://www.trabajosocialpucv.cl
X-WR-CALDESC:Eventos para Escuela de Trabajo Social PUCV
REFRESH-INTERVAL;VALUE=DURATION:PT1H
X-Robots-Tag:noindex
X-PUBLISHED-TTL:PT1H
BEGIN:VTIMEZONE
TZID:America/Santiago
BEGIN:STANDARD
TZOFFSETFROM:-0300
TZOFFSETTO:-0400
TZNAME:-04
DTSTART:20190407T030000
END:STANDARD
BEGIN:DAYLIGHT
TZOFFSETFROM:-0400
TZOFFSETTO:-0300
TZNAME:-03
DTSTART:20190908T040000
END:DAYLIGHT
END:VTIMEZONE
BEGIN:VEVENT
DTSTART;TZID=America/Santiago:20191010T080000
DTEND;TZID=America/Santiago:20191010T170000
DTSTAMP:20260420T011735
CREATED:20191010T152029Z
LAST-MODIFIED:20191010T183453Z
UID:2255-1570694400-1570726800@www.trabajosocialpucv.cl
SUMMARY:EVENTOS 2019| II ENCUENTRO RED LATINOAMERICANA DE PROTAGONISMO INFANTIL Y DERECHOS HUMANOS EN CHILE
DESCRIPTION:Durante los días 16\, 17 y 18 de Octubre se realizará el segundo encuentro de la Red de investigación interdisciplinaria sobre el protagonismo y los derechos humanos de las infancias latinoamericanas en Santiago y Valparaíso.\nLa actividad es abierta y gratuita. El programa lo puedes encontrar en la página de Facebook: Enfoque Comunitario Niñez. \nEn Valparaíso\, el Grupo de Estudios Interdisciplinarios en Niñez\, invita a la conferencia abierta\, el día viernes 18 de octubre\, 11 horas y a los talleres que se realizarán durante la jornada de la tarde (pueden inscribirse durante la conferencia de la mañana): \nTalleres: \n1. Literatura\, infancia y derechos humanos: Claudio Guerrero\n2. Participación\, infancia y territorio: Claudia Espinoza / Lidia Fernández / Jader Janer\n3. Infancia Institucionalizada y vida cotidiana: Patricia Castillo/Alejandra González\n19:30 CENTEX: Lanzamiento de Cuadernos de Infancia.
URL:https://www.trabajosocialpucv.cl/actividad/eventos-2019-ii-encuentro-red-latinoamericana-de-protagonismo-infantil-y-derechos-humanos-en-chile/
LOCATION:Santiago
CATEGORIES:Docentes,Egresados,Estudiantes
END:VEVENT
END:VCALENDAR