BEGIN:VCALENDAR
VERSION:2.0
PRODID:-//Escuela de Trabajo Social PUCV - ECPv6.4.0.1//NONSGML v1.0//EN
CALSCALE:GREGORIAN
METHOD:PUBLISH
X-ORIGINAL-URL:https://www.trabajosocialpucv.cl
X-WR-CALDESC:Eventos para Escuela de Trabajo Social PUCV
REFRESH-INTERVAL;VALUE=DURATION:PT1H
X-Robots-Tag:noindex
X-PUBLISHED-TTL:PT1H
BEGIN:VTIMEZONE
TZID:America/Santiago
BEGIN:DAYLIGHT
TZOFFSETFROM:-0300
TZOFFSETTO:-0300
TZNAME:-03
DTSTART:20150101T000000
END:DAYLIGHT
END:VTIMEZONE
BEGIN:VEVENT
DTSTART;TZID=America/Santiago:20150107T080000
DTEND;TZID=America/Santiago:20150107T170000
DTSTAMP:20260425T063951
CREATED:20150107T235801Z
LAST-MODIFIED:20150107T235923Z
UID:1050-1420617600-1420650000@www.trabajosocialpucv.cl
SUMMARY:PROFESORA ADELA BORK REALIZA CONFERENCIAS EN MÉXICO\, COLOMBIA Y BRASIL
DESCRIPTION:  \n \nPrimero fue Colombia\, después Brasil y finalmente México. En estos tres países la profesora Adela Bork de la Escuela de Trabajo Social efectuó una serie de conferencias donde se refirió a los desafíos que enfrentan las ciencias sociales en el contexto de América Latina. \nVer mas información aqui
URL:https://www.trabajosocialpucv.cl/actividad/profesora-adela-bork-realiza-conferencias-en-mexico-colombia-y-brasil/
LOCATION:Santiago
CATEGORIES:Docentes,Egresados,Estudiantes,Futuros Estudiantes
END:VEVENT
END:VCALENDAR