BEGIN:VCALENDAR
VERSION:2.0
PRODID:-//Escuela de Trabajo Social PUCV - ECPv6.4.0.1//NONSGML v1.0//EN
CALSCALE:GREGORIAN
METHOD:PUBLISH
X-ORIGINAL-URL:https://www.trabajosocialpucv.cl
X-WR-CALDESC:Eventos para Escuela de Trabajo Social PUCV
REFRESH-INTERVAL;VALUE=DURATION:PT1H
X-Robots-Tag:noindex
X-PUBLISHED-TTL:PT1H
BEGIN:VTIMEZONE
TZID:America/Santiago
BEGIN:STANDARD
TZOFFSETFROM:-0300
TZOFFSETTO:-0400
TZNAME:-04
DTSTART:20160515T030000
END:STANDARD
BEGIN:DAYLIGHT
TZOFFSETFROM:-0400
TZOFFSETTO:-0300
TZNAME:-03
DTSTART:20160814T040000
END:DAYLIGHT
END:VTIMEZONE
BEGIN:VEVENT
DTSTART;TZID=America/Santiago:20160615T113000
DTEND;TZID=America/Santiago:20160615T130000
DTSTAMP:20260422T140144
CREATED:20160613T214552Z
LAST-MODIFIED:20160613T215821Z
UID:1540-1465990200-1465995600@www.trabajosocialpucv.cl
SUMMARY:Presentan en Santiago el libro “En las costas del Neoliberalismo. Naturaleza\, urbanismo y producción inmobiliaria”. El profesor de nuestra Escuela Dr. Carlos E. Valdebenito participó como uno de los autores y editores.
DESCRIPTION:  \n 
URL:https://www.trabajosocialpucv.cl/actividad/geografia-y-trabajo-social-presentan-libro-en-las-costas-del-neoliberalismo-en-casa-central/
LOCATION:Sala de Seminario de la Facultad de Historia\, Geografía y Ciencia Política\, Av. Vicuña Mackenna 4860\, Campus San Joaquín PUC.\, Santiago
CATEGORIES:Docentes,Egresados,Estudiantes,Futuros Estudiantes
END:VEVENT
END:VCALENDAR